BEGIN:VCALENDAR
PRODID:-//IONAS//TVM//DE
VERSION:2.0
CALSCALE:GREGORIAN
BEGIN:VTIMEZONE
TZID:Europe/Berlin
LAST-MODIFIED:20201010T011803Z
TZURL:http://tzurl.org/zoneinfo/Europe/Berlin
X-LIC-LOCATION:Europe/Berlin
X-PROLEPTIC-TZNAME:LMT
BEGIN:STANDARD
TZNAME:CET
TZOFFSETFROM:+005328
TZOFFSETTO:+0100
DTSTART:18930401T000000
END:STANDARD
BEGIN:DAYLIGHT
TZNAME:CEST
TZOFFSETFROM:+0100
TZOFFSETTO:+0200
DTSTART:19160430T230000
RDATE:19400401T020000
RDATE:19430329T020000
RDATE:19460414T020000
RDATE:19470406T030000
RDATE:19480418T020000
RDATE:19490410T020000
RDATE:19800406T020000
END:DAYLIGHT
BEGIN:STANDARD
TZNAME:CET
TZOFFSETFROM:+0200
TZOFFSETTO:+0100
DTSTART:19161001T010000
RDATE:19421102T030000
RDATE:19431004T030000
RDATE:19441002T030000
RDATE:19451118T030000
RDATE:19461007T030000
END:STANDARD
BEGIN:DAYLIGHT
TZNAME:CEST
TZOFFSETFROM:+0100
TZOFFSETTO:+0200
DTSTART:19170416T020000
RRULE:FREQ=YEARLY;UNTIL=19180415T010000Z;BYMONTH=4;BYDAY=3MO
END:DAYLIGHT
BEGIN:STANDARD
TZNAME:CET
TZOFFSETFROM:+0200
TZOFFSETTO:+0100
DTSTART:19170917T030000
RRULE:FREQ=YEARLY;UNTIL=19180916T010000Z;BYMONTH=9;BYDAY=3MO
END:STANDARD
BEGIN:DAYLIGHT
TZNAME:CEST
TZOFFSETFROM:+0100
TZOFFSETTO:+0200
DTSTART:19440403T020000
RRULE:FREQ=YEARLY;UNTIL=19450402T010000Z;BYMONTH=4;BYDAY=1MO
END:DAYLIGHT
BEGIN:DAYLIGHT
TZNAME:CEMT
TZOFFSETFROM:+0200
TZOFFSETTO:+0300
DTSTART:19450524T020000
RDATE:19470511T030000
END:DAYLIGHT
BEGIN:DAYLIGHT
TZNAME:CEST
TZOFFSETFROM:+0300
TZOFFSETTO:+0200
DTSTART:19450924T030000
RDATE:19470629T030000
END:DAYLIGHT
BEGIN:STANDARD
TZNAME:CET
TZOFFSETFROM:+0100
TZOFFSETTO:+0100
DTSTART:19460101T000000
RDATE:19800101T000000
END:STANDARD
BEGIN:STANDARD
TZNAME:CET
TZOFFSETFROM:+0200
TZOFFSETTO:+0100
DTSTART:19471005T030000
RRULE:FREQ=YEARLY;UNTIL=19491002T010000Z;BYMONTH=10;BYDAY=1SU
END:STANDARD
BEGIN:STANDARD
TZNAME:CET
TZOFFSETFROM:+0200
TZOFFSETTO:+0100
DTSTART:19800928T030000
RRULE:FREQ=YEARLY;UNTIL=19950924T010000Z;BYMONTH=9;BYDAY=-1SU
END:STANDARD
BEGIN:DAYLIGHT
TZNAME:CEST
TZOFFSETFROM:+0100
TZOFFSETTO:+0200
DTSTART:19810329T020000
RRULE:FREQ=YEARLY;BYMONTH=3;BYDAY=-1SU
END:DAYLIGHT
BEGIN:STANDARD
TZNAME:CET
TZOFFSETFROM:+0200
TZOFFSETTO:+0100
DTSTART:19961027T030000
RRULE:FREQ=YEARLY;BYMONTH=10;BYDAY=-1SU
END:STANDARD
END:VTIMEZONE
BEGIN:VEVENT
DTSTAMP:20260426T020412Z
DTSTART;VALUE=DATE:20260725
DTEND;VALUE=DATE:20260727
SUMMARY:1. Rotenburger Volleyball Camp
CREATED:20260327T112731Z
LAST-MODIFIED:20260327T114035Z
DESCRIPTION:Das 1. Rotenburger Volleyball Camp findet am 25. und 26. Juli
  2026 statt und richtet sich an Kinder und Jugendliche im Alter von 10 b
 is 18 Jahren. An den beiden Tagen erwarten die Teilnehmenden insgesamt 6
  abwechslungsreiche Trainingseinheiten in der Bernhard-Faust-Halle. Gele
 itet werden die Einheiten von erfahrenen Trainerinnen und Trainern\, unt
 erstützt von Oberliga-Spielerinnen der TG Rotenburg.\n\n\n\n\nÜbernachtu
 ng erfolgt im Kreisjugendhof in Mehrbettzimmern\, selbstverständlich ges
 chlechtergetrennt. Für die Verpflegung ist ebenfalls gesorgt – im Teilna
 hmebeitrag enthalten sind zwei Mittagessen\, ein Abendessen sowie ein Fr
 ühstück. Während der Trainingseinheiten wird Wasser bereitgestellt\, zu 
 den Mahlzeiten gibt es zusätzlich Wasser und Apfelschorle.\n\n\n\n\nDie 
 Teilnahmegebühr beträgt 60 Euro und umfasst neben Training\, Verpflegung
  und Übernachtung auch ein exklusives Camp-Shirt. Das Volleyball Camp bi
 etet somit eine tolle Gelegenheit\, sportliche Fähigkeiten zu verbessern
 \, neue Freundschaften zu knüpfen und ein unvergessliches Wochenende vol
 ler Bewegung und Teamgeist zu erleben.
LOCATION:Bernhard-Faust-Halle Rotenburg
X-LOCATION-NAME:Bernhard-Faust-Halle Rotenburg
X-STREET-ADDRESS:Braacher Straße 11
X-POSTAL-CODE:36199
X-LOCALITY:Rotenburg an der Fulda
ORGANIZER;CN=Turngemeinde 1849 Rotenburg - Abt. Volleyball:mailto:volleyb
 all@tg-rotenburg.de
X-ORGANIZER-NAME:Turngemeinde 1849 Rotenburg - Abt. Volleyball
X-ORGANIZER-EMAIL:volleyball@tg-rotenburg.de
X-ORGANIZER-TELEPHONE:01725619370
X-ORGANIZER-WEBSITE:https://www.volleyball-shoptgrotenburg.de/
X-IONAS-CATEGORY:Kinder & Jugendliche
CATEGORIES:Kinder & Jugendliche,Workshop
ATTACH;X-COPYRIGHT=Drazen - stock.adobe.com:https://www.hef-rof.de/bilder
 /bildungs-und-betreuungsportal/bub-sport-und-spiel-mit-text.jpeg?cid=c42
 .2f66
UID:3da32a06-f01f-4e33-a526-52f068d97e93:2026-07-25
END:VEVENT
END:VCALENDAR
