BEGIN:VCALENDAR
PRODID:-//Ben Fortuna//iCal4j 1.0//EN
VERSION:2.0
CALSCALE:GREGORIAN
BEGIN:VTIMEZONE
TZID:Europe/Berlin
LAST-MODIFIED:20201010T011803Z
TZURL:http://tzurl.org/zoneinfo/Europe/Berlin
X-LIC-LOCATION:Europe/Berlin
X-PROLEPTIC-TZNAME:LMT
BEGIN:STANDARD
TZNAME:CET
TZOFFSETFROM:+005328
TZOFFSETTO:+0100
DTSTART:18930401T000000
END:STANDARD
BEGIN:DAYLIGHT
TZNAME:CEST
TZOFFSETFROM:+0100
TZOFFSETTO:+0200
DTSTART:19160430T230000
RDATE:19400401T020000
RDATE:19430329T020000
RDATE:19460414T020000
RDATE:19470406T030000
RDATE:19480418T020000
RDATE:19490410T020000
RDATE:19800406T020000
END:DAYLIGHT
BEGIN:STANDARD
TZNAME:CET
TZOFFSETFROM:+0200
TZOFFSETTO:+0100
DTSTART:19161001T010000
RDATE:19421102T030000
RDATE:19431004T030000
RDATE:19441002T030000
RDATE:19451118T030000
RDATE:19461007T030000
END:STANDARD
BEGIN:DAYLIGHT
TZNAME:CEST
TZOFFSETFROM:+0100
TZOFFSETTO:+0200
DTSTART:19170416T020000
RRULE:FREQ=YEARLY;UNTIL=19180415T010000Z;BYMONTH=4;BYDAY=3MO
END:DAYLIGHT
BEGIN:STANDARD
TZNAME:CET
TZOFFSETFROM:+0200
TZOFFSETTO:+0100
DTSTART:19170917T030000
RRULE:FREQ=YEARLY;UNTIL=19180916T010000Z;BYMONTH=9;BYDAY=3MO
END:STANDARD
BEGIN:DAYLIGHT
TZNAME:CEST
TZOFFSETFROM:+0100
TZOFFSETTO:+0200
DTSTART:19440403T020000
RRULE:FREQ=YEARLY;UNTIL=19450402T010000Z;BYMONTH=4;BYDAY=1MO
END:DAYLIGHT
BEGIN:DAYLIGHT
TZNAME:CEMT
TZOFFSETFROM:+0200
TZOFFSETTO:+0300
DTSTART:19450524T020000
RDATE:19470511T030000
END:DAYLIGHT
BEGIN:DAYLIGHT
TZNAME:CEST
TZOFFSETFROM:+0300
TZOFFSETTO:+0200
DTSTART:19450924T030000
RDATE:19470629T030000
END:DAYLIGHT
BEGIN:STANDARD
TZNAME:CET
TZOFFSETFROM:+0100
TZOFFSETTO:+0100
DTSTART:19460101T000000
RDATE:19800101T000000
END:STANDARD
BEGIN:STANDARD
TZNAME:CET
TZOFFSETFROM:+0200
TZOFFSETTO:+0100
DTSTART:19471005T030000
RRULE:FREQ=YEARLY;UNTIL=19491002T010000Z;BYMONTH=10;BYDAY=1SU
END:STANDARD
BEGIN:STANDARD
TZNAME:CET
TZOFFSETFROM:+0200
TZOFFSETTO:+0100
DTSTART:19800928T030000
RRULE:FREQ=YEARLY;UNTIL=19950924T010000Z;BYMONTH=9;BYDAY=-1SU
END:STANDARD
BEGIN:DAYLIGHT
TZNAME:CEST
TZOFFSETFROM:+0100
TZOFFSETTO:+0200
DTSTART:19810329T020000
RRULE:FREQ=YEARLY;BYMONTH=3;BYDAY=-1SU
END:DAYLIGHT
BEGIN:STANDARD
TZNAME:CET
TZOFFSETFROM:+0200
TZOFFSETTO:+0100
DTSTART:19961027T030000
RRULE:FREQ=YEARLY;BYMONTH=10;BYDAY=-1SU
END:STANDARD
END:VTIMEZONE
BEGIN:VEVENT
DTSTAMP:20260424T154711Z
DTSTART;TZID=Europe/Berlin:20260804T100000
DTEND;TZID=Europe/Berlin:20260804T143000
SUMMARY:\"Stark wie ein Tiger\" Antimobbing und Selbstbehauptungskurs 
CREATED:20260424T102356Z
LAST-MODIFIED:20260424T102800Z
DESCRIPTION:In welcher Situation verhalte ich mich: „Stark wie ein Tiger\
 , schlau wie ein Fuchs oder still wie ein Mäuschen?“\n\nMit Hilfe von Ti
 erszenarien lernen Kinder zwischen 6-10 Jahren spielerisch im geschützte
 n Raum ernste Konfliktsituationen zu bewältigen und können hierdurch im 
 alltäglichen Umfeld stärker hervorgehen.\n\nSie entwickeln ein tigerstar
 kes Selbstbewusstsein\, Selbstvertrauen und -sicherheit sowie Konzentrat
 ion und Strategien\, um gegen Mobbing gewappnet zu sein.\n\nIm Anschluss
  des Tages präsentieren die Kinder das Erlernte und es wird den Eltern p
 ädagogisches Begleitmaterial zum Weiterarbeiten kostenfrei zur Verfügung
  gestellt.\n\nWissenswert:\n\nKosten: 35€ pro Einheit\, inkl. Pizza am M
 ittag und Getränke\nBegrenzte Plätze / Bitte bei der Anmeldung das Alter
  des Kindes sowie den gewünschten Kurstag und eine Telefonnummer mit ang
 eben.\n\n\nNächste Termine:\n\nSamstag\, 15. August 2026 | 10 Uhr - ca. 
 14.30 Uhr\nSonntag\, 16. August 2026 | 10 Uhr - ca. 14.30 Uhr
LOCATION:Familienzentrum \"Schatzkiste\"
X-LOCATION-NAME:Familienzentrum \"Schatzkiste\"
X-STREET-ADDRESS:Weidenberggasse 13
X-POSTAL-CODE:36199
X-LOCALITY:Rotenburg an der Fulda
ORGANIZER;CN=Magistrat der Stadt Rotenburg -Familienzentrum-:mailto:ann-c
 athrin.kolar@rotenburg.de
X-ORGANIZER-NAME:Magistrat der Stadt Rotenburg -Familienzentrum-
X-ORGANIZER-EMAIL:ann-cathrin.kolar@rotenburg.de
X-ORGANIZER-TELEPHONE:+496623933520
RRULE:FREQ=WEEKLY;COUNT=3;INTERVAL=1
X-IONAS-CATEGORY:Kinder & Jugendliche
CATEGORIES:Kinder & Jugendliche,Workshop
ATTACH;X-COPYRIGHT=Christian Schwier - stock.adobe.com:https://www.hef-ro
 f.de/bilder/bildungs-und-betreuungsportal/bub-sozialkompetenz-mit-text.j
 peg?cid=c43.2f65
UID:27090456-8c8d-43c1-b876-26969fdd186f
END:VEVENT
BEGIN:VEVENT
DTSTAMP:20260424T154711Z
DTSTART;TZID=Europe/Berlin:20260815T100000
DTEND;TZID=Europe/Berlin:20260815T143000
SUMMARY:\"Stark wie ein Tiger\" Antimobbing und Selbstbehauptungskurs 
CREATED:20260424T102356Z
LAST-MODIFIED:20260424T102800Z
DESCRIPTION:In welcher Situation verhalte ich mich: „Stark wie ein Tiger\
 , schlau wie ein Fuchs oder still wie ein Mäuschen?“\n\nMit Hilfe von Ti
 erszenarien lernen Kinder zwischen 6-10 Jahren spielerisch im geschützte
 n Raum ernste Konfliktsituationen zu bewältigen und können hierdurch im 
 alltäglichen Umfeld stärker hervorgehen.\n\nSie entwickeln ein tigerstar
 kes Selbstbewusstsein\, Selbstvertrauen und -sicherheit sowie Konzentrat
 ion und Strategien\, um gegen Mobbing gewappnet zu sein.\n\nIm Anschluss
  des Tages präsentieren die Kinder das Erlernte und es wird den Eltern p
 ädagogisches Begleitmaterial zum Weiterarbeiten kostenfrei zur Verfügung
  gestellt.\n\nWissenswert:\n\nKosten: 35€ pro Einheit\, inkl. Pizza am M
 ittag und Getränke\nBegrenzte Plätze / Bitte bei der Anmeldung das Alter
  des Kindes sowie den gewünschten Kurstag und eine Telefonnummer mit ang
 eben.\n\n\nNächste Termine:\n\nSamstag\, 15. August 2026 | 10 Uhr - ca. 
 14.30 Uhr\nSonntag\, 16. August 2026 | 10 Uhr - ca. 14.30 Uhr
LOCATION:Familienzentrum \"Schatzkiste\"
X-LOCATION-NAME:Familienzentrum \"Schatzkiste\"
X-STREET-ADDRESS:Weidenberggasse 13
X-POSTAL-CODE:36199
X-LOCALITY:Rotenburg an der Fulda
ORGANIZER;CN=Magistrat der Stadt Rotenburg -Familienzentrum-:mailto:ann-c
 athrin.kolar@rotenburg.de
X-ORGANIZER-NAME:Magistrat der Stadt Rotenburg -Familienzentrum-
X-ORGANIZER-EMAIL:ann-cathrin.kolar@rotenburg.de
X-ORGANIZER-TELEPHONE:+496623933520
X-IONAS-CATEGORY:Kinder & Jugendliche
CATEGORIES:Kinder & Jugendliche,Workshop
ATTACH;X-COPYRIGHT=Christian Schwier - stock.adobe.com:https://www.hef-ro
 f.de/bilder/bildungs-und-betreuungsportal/bub-sozialkompetenz-mit-text.j
 peg?cid=c43.2f65
UID:27090456-8c8d-43c1-b876-26969fdd186f
RECURRENCE-ID;TZID=Europe/Berlin:20260811T100000
END:VEVENT
BEGIN:VEVENT
DTSTAMP:20260424T154711Z
DTSTART;TZID=Europe/Berlin:20260816T100000
DTEND;TZID=Europe/Berlin:20260816T143000
SUMMARY:\"Stark wie ein Tiger\" Antimobbing und Selbstbehauptungskurs 
CREATED:20260424T102356Z
LAST-MODIFIED:20260424T102800Z
DESCRIPTION:In welcher Situation verhalte ich mich: „Stark wie ein Tiger\
 , schlau wie ein Fuchs oder still wie ein Mäuschen?“\n\nMit Hilfe von Ti
 erszenarien lernen Kinder zwischen 6-10 Jahren spielerisch im geschützte
 n Raum ernste Konfliktsituationen zu bewältigen und können hierdurch im 
 alltäglichen Umfeld stärker hervorgehen.\n\nSie entwickeln ein tigerstar
 kes Selbstbewusstsein\, Selbstvertrauen und -sicherheit sowie Konzentrat
 ion und Strategien\, um gegen Mobbing gewappnet zu sein.\n\nIm Anschluss
  des Tages präsentieren die Kinder das Erlernte und es wird den Eltern p
 ädagogisches Begleitmaterial zum Weiterarbeiten kostenfrei zur Verfügung
  gestellt.\n\nWissenswert:\n\nKosten: 35€ pro Einheit\, inkl. Pizza am M
 ittag und Getränke\nBegrenzte Plätze / Bitte bei der Anmeldung das Alter
  des Kindes sowie den gewünschten Kurstag und eine Telefonnummer mit ang
 eben.\n\n\nNächste Termine:\n\nSamstag\, 15. August 2026 | 10 Uhr - ca. 
 14.30 Uhr\nSonntag\, 16. August 2026 | 10 Uhr - ca. 14.30 Uhr
LOCATION:Familienzentrum \"Schatzkiste\"
X-LOCATION-NAME:Familienzentrum \"Schatzkiste\"
X-STREET-ADDRESS:Weidenberggasse 13
X-POSTAL-CODE:36199
X-LOCALITY:Rotenburg an der Fulda
ORGANIZER;CN=Magistrat der Stadt Rotenburg -Familienzentrum-:mailto:ann-c
 athrin.kolar@rotenburg.de
X-ORGANIZER-NAME:Magistrat der Stadt Rotenburg -Familienzentrum-
X-ORGANIZER-EMAIL:ann-cathrin.kolar@rotenburg.de
X-ORGANIZER-TELEPHONE:+496623933520
X-IONAS-CATEGORY:Kinder & Jugendliche
CATEGORIES:Kinder & Jugendliche,Workshop
ATTACH;X-COPYRIGHT=Christian Schwier - stock.adobe.com:https://www.hef-ro
 f.de/bilder/bildungs-und-betreuungsportal/bub-sozialkompetenz-mit-text.j
 peg?cid=c43.2f65
UID:27090456-8c8d-43c1-b876-26969fdd186f
RECURRENCE-ID;TZID=Europe/Berlin:20260818T100000
END:VEVENT
END:VCALENDAR
